BEGIN:VCALENDAR
VERSION:2.0
PRODID:-//DDS4VETS | Non-profit Organization Supporting Veterans - ECPv6.13.2.1//NONSGML v1.0//EN
CALSCALE:GREGORIAN
METHOD:PUBLISH
X-ORIGINAL-URL:https://dds4vets.org
X-WR-CALDESC:Events for DDS4VETS | Non-profit Organization Supporting Veterans
REFRESH-INTERVAL;VALUE=DURATION:PT1H
X-Robots-Tag:noindex
X-PUBLISHED-TTL:PT1H
BEGIN:VTIMEZONE
TZID:America/New_York
BEGIN:DAYLIGHT
TZOFFSETFROM:-0500
TZOFFSETTO:-0400
TZNAME:EDT
DTSTART:20230312T070000
END:DAYLIGHT
BEGIN:STANDARD
TZOFFSETFROM:-0400
TZOFFSETTO:-0500
TZNAME:EST
DTSTART:20231105T060000
END:STANDARD
END:VTIMEZONE
BEGIN:VEVENT
DTSTART;TZID=America/New_York:20230913T100000
DTEND;TZID=America/New_York:20230913T140000
DTSTAMP:20260425T102020
CREATED:20230619T182635Z
LAST-MODIFIED:20230619T182635Z
UID:6389-1694599200-1694613600@dds4vets.org
SUMMARY:Delta Veteran Wave Readiness For Florida Realtors
DESCRIPTION:
URL:https://dds4vets.org/event/delta-veteran-wave-readiness-for-florida-realtors/
LOCATION:IRSC Veterans center\, 500 NW California Blvd\, Port St. Lucie\, FL\, 34986\, United States
CATEGORIES:Event
END:VEVENT
END:VCALENDAR