BEGIN:VCALENDAR
VERSION:2.0
PRODID:-//DDS4VETS | Non-profit Organization Supporting Veterans - ECPv6.13.2.1//NONSGML v1.0//EN
CALSCALE:GREGORIAN
METHOD:PUBLISH
X-ORIGINAL-URL:https://dds4vets.org
X-WR-CALDESC:Events for DDS4VETS | Non-profit Organization Supporting Veterans
REFRESH-INTERVAL;VALUE=DURATION:PT1H
X-Robots-Tag:noindex
X-PUBLISHED-TTL:PT1H
BEGIN:VTIMEZONE
TZID:America/New_York
BEGIN:DAYLIGHT
TZOFFSETFROM:-0500
TZOFFSETTO:-0400
TZNAME:EDT
DTSTART:20270314T070000
END:DAYLIGHT
BEGIN:STANDARD
TZOFFSETFROM:-0400
TZOFFSETTO:-0500
TZNAME:EST
DTSTART:20271107T060000
END:STANDARD
END:VTIMEZONE
BEGIN:VEVENT
DTSTART;TZID=America/New_York:20270206T170000
DTEND;TZID=America/New_York:20270206T220000
DTSTAMP:20260423T201315
CREATED:20260316T163728Z
LAST-MODIFIED:20260316T164528Z
UID:12124-1801933200-1801951200@dds4vets.org
SUMMARY:Believe in the Mission Gala 2027
DESCRIPTION:[vc_row css_animation=”” row_type=”row” use_row_as_full_screen_section=”no” type=”full_width” angled_section=”no” text_align=”left” background_image_as_pattern=”without_pattern”][vc_column][vc_column_text css=””] \nDDS4Vets Presents – The 6th Annual\nBelieve in the Mission Fundraiser Gala\n\n  \nJoin us for cocktails\, dinner\, and silent auctions PLUS you will get to see a veteran be awarded a service dog with the funds raised at last year’s gala. \nPlease note that this is a Semi-Formal Attire event. \n  \n \nSave the date!\nFebruary 6th\, 2027\n  \n \n  \nHotel Information\nHutchinson Shores Resort & Spa \n \nCall to book \n  \n  \n[/vc_column_text][/vc_column][/vc_row][vc_row css_animation=”” row_type=”row” use_row_as_full_screen_section=”no” type=”full_width” angled_section=”no” text_align=”left” background_image_as_pattern=”without_pattern” css=”.vc_custom_1765909965975{margin-top: 75px !important;}” z_index=””][vc_column][vc_row_inner row_type=”row” type=”full_width” text_align=”left” css_animation=”” css=”.vc_custom_1765909784482{margin-top: 50px !important;}”][vc_column_inner][vc_column_text css=””] \nFor more information contact: \nSharon Kearns\n561-310-5001 \nsharill@aol.com \nDeb Doherty\n561-246-0566 \ndeb@dds4vets.org[/vc_column_text][/vc_column_inner][/vc_row_inner][/vc_column][/vc_row]
URL:https://dds4vets.org/event/believe-in-the-mission-gala-2027/
LOCATION:Hutchinson Shores Resort & Spa\, 3793 NE Ocean Blvd\, Jensen Beach\, FL\, 34957\, United States
CATEGORIES:Event
ATTACH;FMTTYPE=image/jpeg:https://dds4vets.org/wp-content/uploads/2026/03/DDS4Vets-2027-Gala-Save-The-Date-Flyer-v2.jpg
END:VEVENT
END:VCALENDAR