BEGIN:VCALENDAR
VERSION:2.0
PRODID:-//DDS4VETS | Non-profit Organization Supporting Veterans - ECPv6.13.2.1//NONSGML v1.0//EN
CALSCALE:GREGORIAN
METHOD:PUBLISH
X-WR-CALNAME:DDS4VETS | Non-profit Organization Supporting Veterans
X-ORIGINAL-URL:https://dds4vets.org
X-WR-CALDESC:Events for DDS4VETS | Non-profit Organization Supporting Veterans
REFRESH-INTERVAL;VALUE=DURATION:PT1H
X-Robots-Tag:noindex
X-PUBLISHED-TTL:PT1H
BEGIN:VTIMEZONE
TZID:America/New_York
BEGIN:DAYLIGHT
TZOFFSETFROM:-0500
TZOFFSETTO:-0400
TZNAME:EDT
DTSTART:20210314T070000
END:DAYLIGHT
BEGIN:STANDARD
TZOFFSETFROM:-0400
TZOFFSETTO:-0500
TZNAME:EST
DTSTART:20211107T060000
END:STANDARD
BEGIN:DAYLIGHT
TZOFFSETFROM:-0500
TZOFFSETTO:-0400
TZNAME:EDT
DTSTART:20220313T070000
END:DAYLIGHT
BEGIN:STANDARD
TZOFFSETFROM:-0400
TZOFFSETTO:-0500
TZNAME:EST
DTSTART:20221106T060000
END:STANDARD
BEGIN:DAYLIGHT
TZOFFSETFROM:-0500
TZOFFSETTO:-0400
TZNAME:EDT
DTSTART:20230312T070000
END:DAYLIGHT
BEGIN:STANDARD
TZOFFSETFROM:-0400
TZOFFSETTO:-0500
TZNAME:EST
DTSTART:20231105T060000
END:STANDARD
BEGIN:DAYLIGHT
TZOFFSETFROM:-0500
TZOFFSETTO:-0400
TZNAME:EDT
DTSTART:20240310T070000
END:DAYLIGHT
BEGIN:STANDARD
TZOFFSETFROM:-0400
TZOFFSETTO:-0500
TZNAME:EST
DTSTART:20241103T060000
END:STANDARD
BEGIN:DAYLIGHT
TZOFFSETFROM:-0500
TZOFFSETTO:-0400
TZNAME:EDT
DTSTART:20250309T070000
END:DAYLIGHT
BEGIN:STANDARD
TZOFFSETFROM:-0400
TZOFFSETTO:-0500
TZNAME:EST
DTSTART:20251102T060000
END:STANDARD
BEGIN:DAYLIGHT
TZOFFSETFROM:-0500
TZOFFSETTO:-0400
TZNAME:EDT
DTSTART:20260308T070000
END:DAYLIGHT
BEGIN:STANDARD
TZOFFSETFROM:-0400
TZOFFSETTO:-0500
TZNAME:EST
DTSTART:20261101T060000
END:STANDARD
END:VTIMEZONE
BEGIN:VEVENT
DTSTART;TZID=America/New_York:20260207T173000
DTEND;TZID=America/New_York:20260207T220000
DTSTAMP:20260423T172453
CREATED:20250804T205114Z
LAST-MODIFIED:20260316T164642Z
UID:11134-1770485400-1770501600@dds4vets.org
SUMMARY:Believe in the Mission Gala 2026
DESCRIPTION:[vc_row css_animation=”” row_type=”row” use_row_as_full_screen_section=”no” type=”full_width” angled_section=”no” text_align=”left” background_image_as_pattern=”without_pattern”][vc_column][vc_column_text css=””] \nDDS4Vets Presents – The 5th Annual\nBelieve in the Mission Fundraiser Gala\n\n  \nJoin us for cocktails\, dinner\, and silent auctions PLUS you will get to see a veteran be awarded a service dog with the funds raised at last year’s gala. \nPlease note that this is a Semi-Formal Attire event. \n  \n \n***SOLD OUT***\n  \n \n  \nHotel Information\nHutchinson Shores Resort & Spa \n \nCall to book \n(772) 334-1950 \n  \n[/vc_column_text][/vc_column][/vc_row][vc_row css_animation=”” row_type=”row” use_row_as_full_screen_section=”no” type=”full_width” angled_section=”no” text_align=”left” background_image_as_pattern=”without_pattern” css=”.vc_custom_1765909965975{margin-top: 75px !important;}” z_index=””][vc_column][vc_row_inner row_type=”row” type=”full_width” text_align=”left” css_animation=”” css=”.vc_custom_1765909778100{margin-bottom: 50px !important;}”][vc_column_inner][vc_column_text css=””] \nGala Sponsorships\nDDS4Vets is made possible by sponsors like you! Receive special benefits with each of our 2026 Gala sponsorship tiers. \nCall to book \n[/vc_column_text][/vc_column_inner][/vc_row_inner][vc_row_inner row_type=”row” type=”full_width” text_align=”left” css_animation=”” css=”.vc_custom_1765909734052{margin-top: 50px !important;margin-bottom: 50px !important;}”][vc_column_inner width=”1/2″][vc_single_image image=”11237″ img_size=”full” alignment=”center” onclick=”link_image” css=”” qode_css_animation=””][/vc_column_inner][vc_column_inner width=”1/2″][vc_single_image image=”11236″ img_size=”full” alignment=”center” onclick=”link_image” css=”” qode_css_animation=””][/vc_column_inner][/vc_row_inner][vc_row_inner row_type=”row” type=”full_width” text_align=”left” css_animation=”” css=”.vc_custom_1765909784482{margin-top: 50px !important;}”][vc_column_inner][vc_column_text css=”.vc_custom_1766120843440{margin-bottom: 35px !important;}”] \nPurchase a Sponsorship \n[/vc_column_text][vc_column_text css=””] \nOr contact: \nSharon Kearns\n561-310-5001 \nsharill@aol.com \nDeb Doherty\n561-246-0566 \ndeb@dds4vets.org[/vc_column_text][/vc_column_inner][/vc_row_inner][/vc_column][/vc_row]
URL:https://dds4vets.org/event/believe-in-the-mission-gala-2026/
LOCATION:Hutchinson Shores Resort & Spa\, 3793 NE Ocean Blvd\, Jensen Beach\, FL\, 34957\, United States
CATEGORIES:Past Events
ATTACH;FMTTYPE=image/jpeg:https://dds4vets.org/wp-content/uploads/2025/08/2026-Gala-Sponsorships-Flyer-v4-web.jpg
END:VEVENT
BEGIN:VEVENT
DTSTART;TZID=America/New_York:20241005T180000
DTEND;TZID=America/New_York:20241005T220000
DTSTAMP:20260423T172453
CREATED:20231220T182354Z
LAST-MODIFIED:20240918T202454Z
UID:6805-1728151200-1728165600@dds4vets.org
SUMMARY:Believe in the Mission Gala 2024
DESCRIPTION:[vc_row css_animation=”” row_type=”row” use_row_as_full_screen_section=”no” type=”full_width” angled_section=”no” text_align=”left” background_image_as_pattern=”without_pattern”][vc_column][vc_column_text css=””] \nDDS4Vets Presents – The 4th Annual\nBelieve in the Mission Fundraiser Gala\n\n  \nJoin us for cocktails\, dinner\, and silent auctions PLUS you will get to see a veteran be awarded a service dog with the funds raised at last year’s gala. \nPlease note that this is a Formal Attire event! \n  \n\nGala tickets are now on sale!\nPurchase your tickets before September 15th to save on our early bird special of $275/ticket\nBuy Tickets \n  \n\n  \nBook your hotel room now at a special rate!\nHutchinson Shores Resort & Spa \n \nCall to book \n  \n  \nSponsor A Veteran:\nWe have many veterans who would like to attend but cannot afford to. Please consider sponsoring a vet\, even if you can’t attend yourself. They very much appreciate your support.\nSponsor a Veteran \n  \n\n  \nEvent Sponsorships:\n\n  \n  \n\nThank You to Our Sponsors\nWe’d like to thank our incredible sponsors of the 2024 Believe in the Mission Gala.\n  \n[/vc_column_text][/vc_column][/vc_row]
URL:https://dds4vets.org/event/believe-in-the-mission-gala-2024/
LOCATION:Hutchinson Shores Resort & Spa\, 3793 NE Ocean Blvd\, Jensen Beach\, FL\, 34957\, United States
CATEGORIES:Event
ATTACH;FMTTYPE=image/jpeg:https://dds4vets.org/wp-content/uploads/2023/12/DDS4Vets-2024-Gala-Flyer-v6-web.jpg
END:VEVENT
BEGIN:VEVENT
DTSTART;TZID=America/New_York:20231007T180000
DTEND;TZID=America/New_York:20231007T220000
DTSTAMP:20260423T172453
CREATED:20240606T230521Z
LAST-MODIFIED:20240607T013618Z
UID:7852-1696701600-1696716000@dds4vets.org
SUMMARY:Believe in the Mission Gala 2023
DESCRIPTION:DDS4Vets Presents – The 3rd Annual\nBelieve in the Mission Fundraiser Gala\n\nJoin us for cocktails\, dinner\, and silent auctions PLUS you will get to see a veteran be awarded a service dog with the funds raised at last year’s gala. \nPlease note that this is a Formal Attire event! \nGala tickets are now on sale!\nTicket prices are a special price of $275 for early purchasers. \n[av_button label=’Purchase Tickets’ link=’manually\,https://dds4vets.org/product/general-admission-ticket/’ link_target=’_blank’ size=’large’ position=’center’ label_display=” icon_select=’no’ icon=’ue800′ font=’entypo-fontello’ color=’red’ custom_bg=’#444444′ custom_font=’#ffffff’ av_uid=” admin_preview_bg=”] \nTickets are non-refundable. \nBook your hotel room now at a special rate!\nHutchinson Shores Resort & Spa \n  \n \nRent your tuxedo from Cardita’s Formal Wear and mention DDS4Vets to get $50 off. \nThey’re located at 3325 NW Treasure Coast Drive\, Jensen Beach \n  \n\n\nSponsor A Veteran:\nWe have many veterans who would like to attend but cannot afford to. Please consider sponsoring a vet\, even if you can’t attend yourself. They very much appreciate your support. \n  \n  \n\nSponsorships:\nSponsorship opportunities now available. \nOnce you pay by check or credit card\, please send your logo in so we can include it. Email Sharon@dds4vets.org for more info. If you’d like to be anonymous\, please let us know. Please keep in mind that the Sponsorship Package payment is non-refundable. \n  \n \n  \nAgreement to Sponsor Form Download\nThank you to our Sponsors:\nKeynote Speaker Sponsor: \n \nSponsors: \n \n \n  \n \n  \n  \n 
URL:https://dds4vets.org/event/gala-2023/
LOCATION:Hutchinson Shores Resort & Spa\, 3793 NE Ocean Blvd\, Jensen Beach\, FL\, 34957\, United States
CATEGORIES:Event,Past Events
ATTACH;FMTTYPE=image/png:https://dds4vets.org/wp-content/uploads/2023/08/KEYNOTE-2023-Gala-Flyer-1-1187x1536-1.png
END:VEVENT
BEGIN:VEVENT
DTSTART;TZID=America/New_York:20230913T100000
DTEND;TZID=America/New_York:20230913T140000
DTSTAMP:20260423T172453
CREATED:20230619T182635Z
LAST-MODIFIED:20230619T182635Z
UID:6389-1694599200-1694613600@dds4vets.org
SUMMARY:Delta Veteran Wave Readiness For Florida Realtors
DESCRIPTION:
URL:https://dds4vets.org/event/delta-veteran-wave-readiness-for-florida-realtors/
LOCATION:IRSC Veterans center\, 500 NW California Blvd\, Port St. Lucie\, FL\, 34986\, United States
CATEGORIES:Event
END:VEVENT
BEGIN:VEVENT
DTSTART;TZID=America/New_York:20221008T180000
DTEND;TZID=America/New_York:20221008T220000
DTSTAMP:20260423T172453
CREATED:20240606T231018Z
LAST-MODIFIED:20240607T013829Z
UID:7861-1665252000-1665266400@dds4vets.org
SUMMARY:Believe in the Mission Gala 2022
DESCRIPTION:DDS4Vets Presents – The 2nd Annual\nBelieve in the Mission Fundraiser Gala\n\n  \nJoin us for cocktails\, dinner\, and silent auctions PLUS you will get to see two veterans be awarded service dogs with the funds raised at last year’s gala. \nPlease note that this is a Formal Attire event! \n  \nGala Tickets are SOLD OUT!\n  \nTickets are non-refundable. \n  \n  \n \nSponsorships:\nSponsorships are closed. If you’d like to donate\, please use the donate button on our homepage. \n  \nSponsorships are non-refundable. Once you pay by check or credit card\, please send your logo in so we can include it. Email info@dds4vets.org for more info. If you’d like to be anonymous\, please let us know. \n  \n \n  \nThank you to our Sponsors:\n \n \n \n \n 
URL:https://dds4vets.org/event/gala-2022/
LOCATION:Hutchinson Shores Resort & Spa\, 3793 NE Ocean Blvd\, Jensen Beach\, FL\, 34957\, United States
CATEGORIES:Event,Past Events
ATTACH;FMTTYPE=image/jpeg:https://dds4vets.org/wp-content/uploads/2022/02/blue-and-gold-with-words.jpg
END:VEVENT
BEGIN:VEVENT
DTSTART;TZID=America/New_York:20211016T180000
DTEND;TZID=America/New_York:20211016T230000
DTSTAMP:20260423T172453
CREATED:20240607T012353Z
LAST-MODIFIED:20240607T013812Z
UID:7864-1634407200-1634425200@dds4vets.org
SUMMARY:Believe in the Mission Gala 2021
DESCRIPTION:DDS4Vets Presents – The 1st Annual\nBelieve in the Mission Fundraiser Gala\n\nJoin us for cocktails\, dinner\, dancing\, and live and silent auctions. A veteran will receive a service dog from the funds raised. \nPlease note that this is a Formal Attire event! \n  \n  \n \n  \nSponsors:\n    \n  \n  \n \n \n \n 
URL:https://dds4vets.org/event/gala-2021/
LOCATION:Hutchinson Island Marriott\, 555 NE Ocean Blvd\, Stuart\, FL\, 34996\, United States
CATEGORIES:Event,Past Events
ATTACH;FMTTYPE=image/jpeg:https://dds4vets.org/wp-content/uploads/2019/11/DDS4Vets-2021-Annual-Gala.jpg
END:VEVENT
END:VCALENDAR